BEGIN:VCALENDAR
VERSION:2.0
METHOD:PUBLISH
BEGIN:VEVENT
DTSTART:20250614T140000Z
DTEND:20250614T210000Z
LOCATION:300 Collett St 300 Collett Street Morganton NC 28655 
TRANSP: OPAQUE
SEQUENCE:0
UID:
DTSTAMP:20260425T104147Z
SUMMARY:Morganton Comic Con 2025
DESCRIPTION:We have a great lineup of Dealers lined up selling Comic Books, Funko pops, Pokemon, Toys, Art, Anime, Cosplay, Super Hero collectibles and more. Costume contest for all and some great cosplay members . Great for all ages

Additionally our special guest star is Anna Graves.   She has starred in "Star Wars: The Clone Wars”, as the Duchess Satine, and voiced Bounty Hunters, Senators and Droids.   Come by the Collett St. Rec Center and meet her on June 14th!
PRIORITY:1
CLASS:PUBLIC
BEGIN:VALARM
TRIGGER:-PT10080M
ACTION:DISPLAY
DESCRIPTION:Reminder
END:VALARM
END:VEVENT
END:VCALENDAR
