BEGIN:VCALENDAR
VERSION:2.0
METHOD:PUBLISH
BEGIN:VEVENT
DTSTART:20250301T150000Z
DTEND:20250301T220000Z
LOCATION:300 Collett St 300 Collett Street Morganton NC 28655 
TRANSP: OPAQUE
SEQUENCE:0
UID:
DTSTAMP:20260425T205946Z
SUMMARY:Morganton Comic Con 2025 Spring
DESCRIPTION:Morganton Comic Con is Saturday, March 1, from 10am to 5pm at Colliet St. Rec Center in Morganton NC. We have a great lineup of Dealers lined up selling Comic Books, Funko pops, Pokemon, Toys, Art, Anime, Cosplay, Super Hero collectibles and more. Costume contest for all and some great costumes.

Come by and checkout some great artists/writer such as Matthew Manning and Chris McJunkin along with other great artists! You'll also find lots of comics, action figures, crafts and Pops! Join us for a day of fun!!!
PRIORITY:1
CLASS:PUBLIC
BEGIN:VALARM
TRIGGER:-PT10080M
ACTION:DISPLAY
DESCRIPTION:Reminder
END:VALARM
END:VEVENT
END:VCALENDAR
