BEGIN:VCALENDAR
VERSION:2.0
METHOD:PUBLISH
BEGIN:VEVENT
DTSTART:20251031T170000Z
DTEND:20251031T180000Z
LOCATION:509 Biltmore Ave 509 Biltmore Avenue Asheville NC 28801 
TRANSP: OPAQUE
SEQUENCE:0
UID:
DTSTAMP:20260425T105046Z
SUMMARY:Mission Hospital Pediatric Halloween Parade 2025
DESCRIPTION:Venue:  Mission Children's Hospital

We are having our annual Halloween parade on the pediatric floor at Mission Children's Hospital. We have had 2-3 characters go on parade with us as a fun addition for the patients and staff.
PRIORITY:1
CLASS:PUBLIC
BEGIN:VALARM
TRIGGER:-PT10080M
ACTION:DISPLAY
DESCRIPTION:Reminder
END:VALARM
END:VEVENT
END:VCALENDAR
