BEGIN:VCALENDAR
VERSION:2.0
METHOD:PUBLISH
BEGIN:VEVENT
DTSTART:20260328T163000Z
DTEND:20260326T190000Z
LOCATION:5510 Olsen Park Ln 5510 Olsen Park Lane Wilmington NC 28405 
TRANSP: OPAQUE
SEQUENCE:0
UID:
DTSTAMP:20260424T134153Z
SUMMARY:Miracle League of Wilmington Game Day Spring 26
DESCRIPTION:Miracle League of Wilmington game day - 12:30-3:00 time span includes 2.5 games. The competitive game starts at 12:00 so that will be going on as you arrive. The other 2 games start at 1:00 and 2:00, ending around 3:00. Each game will have around 40 players from ages 8-60, plus families and volunteers (should have 30-50 volunteers for that block).
PRIORITY:1
CLASS:PUBLIC
BEGIN:VALARM
TRIGGER:-PT10080M
ACTION:DISPLAY
DESCRIPTION:Reminder
END:VALARM
END:VEVENT
END:VCALENDAR
