BEGIN:VCALENDAR
VERSION:2.0
METHOD:PUBLISH
BEGIN:VEVENT
DTSTART:20250920T130000Z
DTEND:20250920T160000Z
LOCATION:5510 Olsen Park Ln 5510 Olsen Park Lane Wilmington NC 28405 
TRANSP: OPAQUE
SEQUENCE:0
UID:
DTSTAMP:20260425T105052Z
SUMMARY:Miracle League of Wilmington Game Day 2025
DESCRIPTION:A day of games for the Miracle League of Wilmington. We have games starting at 9:30 and the last one ends around 3:00. We have players of all ages ranging from 3 to 65+.

5 Total Slots for each shift.  3 CG & 2 RL.  If RL doesn't sign up, then we'll have 5 total slots for each shift.
PRIORITY:1
CLASS:PUBLIC
BEGIN:VALARM
TRIGGER:-PT10080M
ACTION:DISPLAY
DESCRIPTION:Reminder
END:VALARM
END:VEVENT
END:VCALENDAR
