BEGIN:VCALENDAR
VERSION:2.0
METHOD:PUBLISH
BEGIN:VEVENT
DTSTART:20250531T133000Z
DTEND:20250531T170000Z
LOCATION:600 M Durwood Stephenson Pkwy 600 M Durwood Stephenson Parkway Smithfield NC 27577 
TRANSP: OPAQUE
SEQUENCE:0
UID:
DTSTAMP:20260420T084500Z
SUMMARY:Miracle League of Johnston County Game Day
DESCRIPTION:The Miracle League of Johnston County is a baseball league for children with physical, cognitive and/or emotional disabilities.

The Miracle Leauge brings joy to children, families, and volunteers. It’s a special community that gathers in the Spring and Fall to celebrate the sport of baseball by giving everyone the chance to participate.
PRIORITY:1
CLASS:PUBLIC
BEGIN:VALARM
TRIGGER:-PT10080M
ACTION:DISPLAY
DESCRIPTION:Reminder
END:VALARM
END:VEVENT
END:VCALENDAR
