BEGIN:VCALENDAR
VERSION:2.0
METHOD:PUBLISH
BEGIN:VEVENT
DTSTART:20251025T161500Z
DTEND:20251025T190000Z
LOCATION:905 Cary Towne Blvd 905 Cary Towne Boulevard Cary NC 27511 
TRANSP: OPAQUE
SEQUENCE:0
UID:
DTSTAMP:20260425T104802Z
SUMMARY:Miracle League Baseball Bash - Cary 2025
DESCRIPTION:A Miracle League event is a joyful and inclusive baseball game where individuals with disabilities are paired with volunteer "buddies" to help them safely play and enjoy the game. Held on a custom, rubberized field, these events focus on fun, teamwork, and celebration—every player gets to hit, round the bases, and score, and every game ends in a tie so everyone’s a winner.

You will be walking around taking pictures and celebrating them on their success during the game

4 Total Spots - 2 CG & 2 RL
PRIORITY:1
CLASS:PUBLIC
BEGIN:VALARM
TRIGGER:-PT10080M
ACTION:DISPLAY
DESCRIPTION:Reminder
END:VALARM
END:VEVENT
END:VCALENDAR
