BEGIN:VCALENDAR
VERSION:2.0
METHOD:PUBLISH
BEGIN:VEVENT
DTSTART:20250525T123000Z
DTEND:20250525T143000Z
LOCATION:1500 Old Towne Rd 1500 Old Towne Road Charleston SC 29407 
TRANSP: OPAQUE
SEQUENCE:0
UID:
DTSTAMP:20260425T104752Z
SUMMARY:Miles for Michael Run/Walk and Children's Dash
DESCRIPTION:This is a family friendly community run in memory of our father who passed in a plane crash this summer. He leaves behind children and 4 beautiful grandchildren whose friends and greater community would enjoy the company of Storm Troopers!
PRIORITY:1
CLASS:PUBLIC
BEGIN:VALARM
TRIGGER:-PT10080M
ACTION:DISPLAY
DESCRIPTION:Reminder
END:VALARM
END:VEVENT
END:VCALENDAR
