BEGIN:VCALENDAR
VERSION:2.0
METHOD:PUBLISH
BEGIN:VEVENT
DTSTART:20241015T220000Z
DTEND:20241016T010000Z
LOCATION:5601 N Church St 5601 North Church Street Greensboro NC 27455 
TRANSP: OPAQUE
SEQUENCE:0
UID:
DTSTAMP:20260425T105047Z
SUMMARY:McLarin farms trunk or treat
DESCRIPTION:It’s all treats, no tricks at this family-friendly event! Kids can dress up and go trick or treating at numerous setups from local radio stations, and there are so many photo opportunities for every age. We’ll have a food truck and other activities, too!

Activities Include:

Trunk or Treat

Jump on the inflatables
Grain Train ride
One free glitter tattoo 
Play in Dinoland
Play on the playground with 40-foot slide
Explore our inflatable maze
And many more activities
PRIORITY:1
CLASS:PUBLIC
BEGIN:VALARM
TRIGGER:-PT10080M
ACTION:DISPLAY
DESCRIPTION:Reminder
END:VALARM
END:VEVENT
END:VCALENDAR
