BEGIN:VCALENDAR
VERSION:2.0
METHOD:PUBLISH
BEGIN:VEVENT
DTSTART:20250503T150000Z
DTEND:20250503T190000Z
LOCATION:155 Jackson St 155 Jackson Street Charleston SC 29403 
TRANSP: OPAQUE
SEQUENCE:0
UID:
DTSTAMP:20260425T104919Z
SUMMARY:May the Fourth be With You Trophy Meet
DESCRIPTION:Regional swim meet where competitors come from South Carolina North Carolina and Georgia
PRIORITY:1
CLASS:PUBLIC
BEGIN:VALARM
TRIGGER:-PT10080M
ACTION:DISPLAY
DESCRIPTION:Reminder
END:VALARM
END:VEVENT
END:VCALENDAR
