BEGIN:VCALENDAR
VERSION:2.0
METHOD:PUBLISH
BEGIN:VEVENT
DTSTART:20260504T214500Z
DTEND:20260504T230000Z
LOCATION:3900 Bonsal Rd 3900 Bonsal Road New Hill NC 27562 
TRANSP: OPAQUE
SEQUENCE:0
UID:
DTSTAMP:20260424T132038Z
SUMMARY:May the Force Be With You / Star Wars Day
DESCRIPTION:We are a historic train and museum and we will be hosting a Star War themed event (with train ride) in 2026.  We will be giving a free light sabers to all who attend in costume!

The train ride will be at 6:30 and lasts one hour.  We expect riders to come early (6:00pm) and then ride the train at 6:30pm.

We will provide a free train ticket to anyone from your organization who attends in costume and identifies themselves to the ticket agent.  We can work out details closer to the event.
PRIORITY:1
CLASS:PUBLIC
BEGIN:VALARM
TRIGGER:-PT10080M
ACTION:DISPLAY
DESCRIPTION:Reminder
END:VALARM
END:VEVENT
END:VCALENDAR
