BEGIN:VCALENDAR
VERSION:2.0
METHOD:PUBLISH
BEGIN:VEVENT
DTSTART:20250504T193000Z
DTEND:20250504T213000Z
LOCATION:310 S Greene St 310 South Greene Street Greensboro NC 27401 
TRANSP: OPAQUE
SEQUENCE:0
UID:
DTSTAMP:20260425T111039Z
SUMMARY:May 4th Star Wars Party / Rogue One Showing
DESCRIPTION:Venue:  Carolina Theatre of Greensboro

We will be hosting our first Star Wars party. 

Our community has voted on showing Rogue One. The movie will begin at 3:30 pm and doors will open 45 minutes before the show. 
We will have themed activities and concession drinks, like blue milk. We'd love to have you all!
PRIORITY:1
CLASS:PUBLIC
BEGIN:VALARM
TRIGGER:-PT10080M
ACTION:DISPLAY
DESCRIPTION:Reminder
END:VALARM
END:VEVENT
END:VCALENDAR
