BEGIN:VCALENDAR
VERSION:2.0
METHOD:PUBLISH
BEGIN:VEVENT
DTSTART:20250429T220000Z
DTEND:20250430T010000Z
LOCATION:1322 Celebrity Cir 1322 Celebrity Circle Myrtle Beach SC 29577 
TRANSP: OPAQUE
SEQUENCE:0
UID:
DTSTAMP:20260424T132007Z
SUMMARY:MAW - World Wish Day Celebration (@ Dave & Busters)
DESCRIPTION:This is an event at Dave & Buster's in Myrtle Beach South Carolina for the Make-A-Wish foundation. 
All of the local wish recipients and their families will be invited to the event. The 501st has attended in the past.
PRIORITY:1
CLASS:PUBLIC
BEGIN:VALARM
TRIGGER:-PT10080M
ACTION:DISPLAY
DESCRIPTION:Reminder
END:VALARM
END:VEVENT
END:VCALENDAR
