BEGIN:VCALENDAR
VERSION:2.0
METHOD:PUBLISH
BEGIN:VEVENT
DTSTART:20260307T160000Z
DTEND:20260307T230000Z
LOCATION:100 E McDowell St 100 East McDowell Street Matthews NC 28105 
TRANSP: OPAQUE
SEQUENCE:0
UID:
DTSTAMP:20260425T104603Z
SUMMARY:Matthews Comic Con 2026
DESCRIPTION:Matthews Comic-Con is an annual indoor/outdoor event that includes activities for kids, comic and craft vendors, entertainment, a cosplay contest, car show, and more! We will also have lots of photo opportunities for everyone who is attending.
PRIORITY:1
CLASS:PUBLIC
BEGIN:VALARM
TRIGGER:-PT10080M
ACTION:DISPLAY
DESCRIPTION:Reminder
END:VALARM
END:VEVENT
END:VCALENDAR
