BEGIN:VCALENDAR
VERSION:2.0
METHOD:PUBLISH
BEGIN:VEVENT
DTSTART:20250906T140000Z
DTEND:20250906T180000Z
LOCATION:800 W Franklin Blvd 800 West Franklin Boulevard Gastonia NC 28052 
TRANSP: OPAQUE
SEQUENCE:0
UID:
DTSTAMP:20260425T114946Z
SUMMARY:Make M Smile NC
DESCRIPTION:Make M Smile NC is a huge party celebrating kids and adults with disabilities or special needs. It includes games, food, characters/mascots, entertainment and more.
PRIORITY:1
CLASS:PUBLIC
BEGIN:VALARM
TRIGGER:-PT10080M
ACTION:DISPLAY
DESCRIPTION:Reminder
END:VALARM
END:VEVENT
END:VCALENDAR
