BEGIN:VCALENDAR
VERSION:2.0
METHOD:PUBLISH
BEGIN:VEVENT
DTSTART:20251217T220000Z
DTEND:20251218T003000Z
LOCATION:Prisma Health Welcome Center 111 Welborn Street Greenville SC 29601 
TRANSP: OPAQUE
SEQUENCE:0
UID:
DTSTAMP:20260425T105058Z
SUMMARY:Make-A-Wish of South Carolina Holiday Party
DESCRIPTION: We are gearing up for our annual holiday party for the Upstate wish children for Make-A-Wish South Carolina.
This year we will be celebrating at the PRISMA Health Welcome Center at Unity Park  We would love to have you come out and help with this celebration if possible. You have always been a big part of our party and we would love for you to come out and help us again this year.
We hope to see you on December 17th, and thank you agian for all the support you show our chapter throughout the year.
Set-up: After 1:00- space will be open to set-up for anyone who needs extra time or to drop items and return to set-up.
PRIORITY:1
CLASS:PUBLIC
BEGIN:VALARM
TRIGGER:-PT10080M
ACTION:DISPLAY
DESCRIPTION:Reminder
END:VALARM
END:VEVENT
END:VCALENDAR
