BEGIN:VCALENDAR
VERSION:2.0
METHOD:PUBLISH
BEGIN:VEVENT
DTSTART:20250906T130000Z
DTEND:20250906T150000Z
LOCATION: 1500 48th Avenue North Myrtle Beach SC 29577 
TRANSP: OPAQUE
SEQUENCE:0
UID:
DTSTAMP:20260425T104909Z
SUMMARY:Make a Wish Granting at Myrtlewood Golf Tournament
DESCRIPTION:Make a Wish SC will be granting a wish at Myrtlewood prior to the golf tournament.  The wish kid will arrive around 9:15 so troopers would need to be ready to go at 9:00 am.  Last year the wish child was escorted by Police and they had a notable presentation on the golf green directly adjacent to the clubhouse.  Wish kid will then go out and about on the course for a short period of time and return to the clubhouse for a party. I (Jeff Miller) can't attend this year.
Referred by:  Make a Wish contacted me directly about the event (Jeff Miller TD13167)
PRIORITY:1
CLASS:PUBLIC
BEGIN:VALARM
TRIGGER:-PT10080M
ACTION:DISPLAY
DESCRIPTION:Reminder
END:VALARM
END:VEVENT
END:VCALENDAR
