BEGIN:VCALENDAR
VERSION:2.0
METHOD:PUBLISH
BEGIN:VEVENT
DTSTART:20251004T203000Z
DTEND:20251005T000000Z
LOCATION:408 Bellemeade St 408 Bellemeade Street Greensboro NC 27401 
TRANSP: OPAQUE
SEQUENCE:0
UID:
DTSTAMP:20260425T104034Z
SUMMARY:Light the Night
DESCRIPTION: This is Light the Night it honors survivors of cancer and remembers the ones who have lost there fight with cancer. This is also a fundraiser to help collect donations for the fight against cancer.
PRIORITY:1
CLASS:PUBLIC
BEGIN:VALARM
TRIGGER:-PT10080M
ACTION:DISPLAY
DESCRIPTION:Reminder
END:VALARM
END:VEVENT
END:VCALENDAR
