BEGIN:VCALENDAR
VERSION:2.0
METHOD:PUBLISH
BEGIN:VEVENT
DTSTART:20250509T163000Z
DTEND:20250509T180000Z
LOCATION:12201 Hambright Rd 12201 Hambright Road Huntersville NC 28078 
TRANSP: OPAQUE
SEQUENCE:0
UID:
DTSTAMP:20260425T104120Z
SUMMARY:Library Storytime
DESCRIPTION:I was just seeing if anyone was willing to come by our library and do Storytime with the kids. I am super flexible on times and days within the next week. I would love it if the kids could hear a story, or ask questions
PRIORITY:1
CLASS:PUBLIC
BEGIN:VALARM
TRIGGER:-PT10080M
ACTION:DISPLAY
DESCRIPTION:Reminder
END:VALARM
END:VEVENT
END:VCALENDAR
