BEGIN:VCALENDAR
VERSION:2.0
METHOD:PUBLISH
BEGIN:VEVENT
DTSTART:20250821T220000Z
DTEND:20250821T224500Z
LOCATION:8410 Pride Way 8410 Pride Way Raleigh NC 27613 
TRANSP: OPAQUE
SEQUENCE:0
UID:
DTSTAMP:20260425T104909Z
SUMMARY:Leesville Road High School Dance Team Trip Reveal
DESCRIPTION:Venue:  Leesville Road High School

I know that this is late, but we just finalized the annual dance team trip.  This year it is going to be at Disney.  Each year, it is kept a secret until our first meeting.  As the trip planner, I thought it would be fun to do a big reveal to the dancer by having some Star Wars characters walk in.  This would let the dancers know where they are going.  Since we are a school, we are not allowed to have any type of "guns" on campus.  Again, I know this is really short notice (only 2 weeks), but I thought I would ask.  And I would gladly donate via your charity page.

2 to 3 spots.  Not a hard cap.
PRIORITY:1
CLASS:PUBLIC
BEGIN:VALARM
TRIGGER:-PT10080M
ACTION:DISPLAY
DESCRIPTION:Reminder
END:VALARM
END:VEVENT
END:VCALENDAR
