BEGIN:VCALENDAR
VERSION:2.0
METHOD:PUBLISH
BEGIN:VEVENT
DTSTART:20250709T180000Z
DTEND:20250709T200000Z
LOCATION:100 Bryan Chalk Ln 100 Bryan Chalk Lane Knightdale NC 27545 
TRANSP: OPAQUE
SEQUENCE:0
UID:
DTSTAMP:20260423T084207Z
SUMMARY:Knightdale PD Summer Camp Visit
DESCRIPTION:Free summer camp put on by KPD for ages 9-12
PRIORITY:1
CLASS:PUBLIC
BEGIN:VALARM
TRIGGER:-PT10080M
ACTION:DISPLAY
DESCRIPTION:Reminder
END:VALARM
END:VEVENT
END:VCALENDAR
