BEGIN:VCALENDAR
VERSION:2.0
METHOD:PUBLISH
BEGIN:VEVENT
DTSTART:20250315T130000Z
DTEND:20250315T180000Z
LOCATION:2020 Springfield Rd 2020 Springfield Road Boiling Springs SC 29316 
TRANSP: OPAQUE
SEQUENCE:0
UID:
DTSTAMP:20260425T120015Z
SUMMARY:Kids Adventure
DESCRIPTION:They will have community business , police, fire, ems, wildlife rescue and other resources at event. Any Star Wars Group will have their own table to help make this experience wonderful.

Parking location and details: (Fees and or event entrance)

PRIORITY:1
CLASS:PUBLIC
BEGIN:VALARM
TRIGGER:-PT10080M
ACTION:DISPLAY
DESCRIPTION:Reminder
END:VALARM
END:VEVENT
END:VCALENDAR
