BEGIN:VCALENDAR
VERSION:2.0
METHOD:PUBLISH
BEGIN:VEVENT
DTSTART:20250704T130000Z
DTEND:20250704T160000Z
LOCATION:513 W Mountain St 513 West Mountain Street Kernersville NC 27284 
TRANSP: OPAQUE
SEQUENCE:0
UID:
DTSTAMP:20260425T104929Z
SUMMARY:Kernersville 4th of July Parade
DESCRIPTION:One of Kernersville's greatest traditions, the Kernersville 4th of July Parade, is presented by the Rotary Club of Kernersville.
PRIORITY:1
CLASS:PUBLIC
BEGIN:VALARM
TRIGGER:-PT10080M
ACTION:DISPLAY
DESCRIPTION:Reminder
END:VALARM
END:VEVENT
END:VCALENDAR
