BEGIN:VCALENDAR
VERSION:2.0
METHOD:PUBLISH
BEGIN:VEVENT
DTSTART:20260106T220000Z
DTEND:20260107T023000Z
LOCATION:Lenovo Center 1400 Edwards Mill Road Raleigh NC 27607 
TRANSP: OPAQUE
SEQUENCE:0
UID:
DTSTAMP:20260424T142426Z
SUMMARY:Hurricanes Star Wars Night
DESCRIPTION:Please Note: This is an official LFL event.  LFL events are handled differently than other events.  In order to ensure that we adhere to all LFL rules and guidelines, ONLY sign up here if you plan to attend in an approved 501st costume.  If you will be wearing a costume from another organization, sign up with that organization so that we can plan for limited numbers and ensure that all are trooping with an approved costume. Feel free to leave a comment if you are planning on attending under a different organization. 
Thank you

Carolina Hurricanes Star Wars Night 2026

Location: Lenovo Center, 1400 Edwards Mill Road Raleigh NC 27607

Parking location and details: Lenovo Center North Lot (near loading dock), please inform the attendants your name is on the parking list and they will direct you to the proper parking location, complimentary parking secured but carpooling encouraged as parking spaces fill up quickly. Please do not park in first three rows of North lot. Will need a list of parking names 48 hours out.

Event date: Tuesday, January 6 2026

Event start time & approx. end time: Doors open at 6 pm, 7 pm puck drop, game over at approximately 9:30 PM

Call time: 5 PM

Changing room details: TBD working on this through construction

Maximum number invited: 10 costumers and 5 handlers = 15 people total

RSVP by date: Thursday, January 1 – please provide names of costumers and names of credentials requested
PRIORITY:1
CLASS:PUBLIC
BEGIN:VALARM
TRIGGER:-PT10080M
ACTION:DISPLAY
DESCRIPTION:Reminder
END:VALARM
END:VEVENT
END:VCALENDAR
