BEGIN:VCALENDAR
VERSION:2.0
METHOD:PUBLISH
BEGIN:VEVENT
DTSTART:20250726T140000Z
DTEND:20250726T200000Z
LOCATION:450 Redwood St 450 Redwood Street Hudson NC 28638 
TRANSP: OPAQUE
SEQUENCE:0
UID:
DTSTAMP:20260425T104441Z
SUMMARY:Hudson Con
DESCRIPTION:Hudson Con – A Celebration of All Things Fandom!

Mark your calendars for July 26th from 10 AM - 4 PM at The Hub Station on Cedar Valley Rd in Hudson, NC! 

Dive into a world of comics, gaming, sci-fi, anime, and more at Hudson Con. 

Enjoy vendors, artists, panels, and an all-ages costume contest. 

Whether you’re a casual fan or a dedicated collector, there’s something for everyone!
PRIORITY:1
CLASS:PUBLIC
BEGIN:VALARM
TRIGGER:-PT10080M
ACTION:DISPLAY
DESCRIPTION:Reminder
END:VALARM
END:VEVENT
END:VCALENDAR
