BEGIN:VCALENDAR
VERSION:2.0
METHOD:PUBLISH
BEGIN:VEVENT
DTSTART:20250306T220000Z
DTEND:20250307T000000Z
LOCATION:2128 Mingo Bluff Blvd 2128 Mingo Bluff Boulevard Knightdale NC 27545 
TRANSP: OPAQUE
SEQUENCE:0
UID:
DTSTAMP:20260425T104158Z
SUMMARY:Hodge Road Elementary Presents: Panther Con
DESCRIPTION:Panther Con is an event that celebrates creativity, culture, and literacy! This event will feature a variety of activities across different subjects, making it a fun and educational experience for all students. It will feature musical performances, art work, authors, and illustrators. 
PRIORITY:1
CLASS:PUBLIC
BEGIN:VALARM
TRIGGER:-PT10080M
ACTION:DISPLAY
DESCRIPTION:Reminder
END:VALARM
END:VEVENT
END:VCALENDAR
