BEGIN:VCALENDAR
VERSION:2.0
METHOD:PUBLISH
BEGIN:VEVENT
DTSTART:20250412T140000Z
DTEND:20250412T210000Z
LOCATION:1960 13th Ave Dr SE 1960 13th Avenue Drive Southeast Hickory NC 28602 
TRANSP: OPAQUE
SEQUENCE:0
UID:
DTSTAMP:20260425T104441Z
SUMMARY:HIckory Con 2
DESCRIPTION:Hickory Con 2  - We strive to put on one of the best one day shows in the state and the south east in general. The convention hall will be filled with the best comic and toy dealers in area. The show is also home to a lot of great cosplay with the costume contest starting at 1pm with adult and kids categories.
One of the great comic book shows in North Carolina! Tons of Comic Books, Toys Gaming, and Cosplay.
PRIORITY:1
CLASS:PUBLIC
BEGIN:VALARM
TRIGGER:-PT10080M
ACTION:DISPLAY
DESCRIPTION:Reminder
END:VALARM
END:VEVENT
END:VCALENDAR
