BEGIN:VCALENDAR
VERSION:2.0
METHOD:PUBLISH
BEGIN:VEVENT
DTSTART:20260612T150000Z
DTEND:20260612T230000Z
LOCATION:501 S College St 501 South College Street Charlotte NC 28202 
TRANSP: OPAQUE
SEQUENCE:0
UID:
DTSTAMP:20260425T104141Z
SUMMARY:HeroesCon 2026
DESCRIPTION:HeroesCon is one of the largest family-frienclly comics conventions in the Southeast, and is an annual event for the garrison! Founded in 1982 by Shelton Drum, owner of Charlotte's Heroes Aren't Hard To Find comics shop, the convention has become famous for its comics-first and family-friendly atmosphere, where fans can mingle directly with professionals and exhibitors. 
Boasting an incredible guest list built mainly on reputation and goodwill, HeroesCon is known nationwide as a "must" on the summer schedule, drawing fans, exhibitors, and creators from every region of the country to the Charlotte Convention Center.

Per Ramon - Tickets are pending.  No one is guaranteed a pass.
PRIORITY:1
CLASS:PUBLIC
BEGIN:VALARM
TRIGGER:-PT10080M
ACTION:DISPLAY
DESCRIPTION:Reminder
END:VALARM
END:VEVENT
END:VCALENDAR
