BEGIN:VCALENDAR
VERSION:2.0
METHOD:PUBLISH
BEGIN:VEVENT
DTSTART:20251030T210000Z
DTEND:20251030T230000Z
LOCATION:4800 S Croatan Hwy 4800 South Croatan Highway Nags Head NC 27959 
TRANSP: OPAQUE
SEQUENCE:0
UID:
DTSTAMP:20260425T105058Z
SUMMARY:Harvest for Health & Trunk or Treat 2025
DESCRIPTION:HARVEST FOR HEALTH:
TRUNK OR TREAT
A night of games, activities,
pumpkin contest voting, and the main event, our Trunk or Treat Competition.
Compete for prizes and the coveted trophy!
EVENT DETAILS:
• October 30, 2025 | 5:00p - 7:00p
• OBH Hospital Parking Lot
GUIDELINES:
• Kid-friendly themes (PG-13 or below)
• OBH provides candy (extras are welcome)
• Assigned trunk spaces will be emailed in advance
Grab your department, family, or friends and sign
PRIORITY:1
CLASS:PUBLIC
BEGIN:VALARM
TRIGGER:-PT10080M
ACTION:DISPLAY
DESCRIPTION:Reminder
END:VALARM
END:VEVENT
END:VCALENDAR
