BEGIN:VCALENDAR
VERSION:2.0
METHOD:PUBLISH
BEGIN:VEVENT
DTSTART:20251108T211500Z
DTEND:20251109T030000Z
LOCATION:Bon Secours Wellness Arena 650 North Academy Street Greenville SC 29601 
TRANSP: OPAQUE
SEQUENCE:0
UID:
DTSTAMP:20260425T105047Z
SUMMARY:Greenville Swamp Rabbits Star Wars Night
DESCRIPTION:Please Note: This is an official LFL event.  LFL events are handled differently than other events.  In order to ensure that we adhere to all LFL rules and guidelines, ONLY sign up here if you plan to attend in an approved 501st costume.  If you will be wearing a costume from another organization, sign up with that organization so that we can plan for limited numbers and ensure that all are trooping with an approved costume. Feel free to leave a comment if you are planning on attending under a different organization. Thank you

Greenville Swamp Rabbits Star Wars Night 2025

Location: Bon Secours Wellness Arena (650 N Academy St, Greenville, SC 29601)
Parking location and details: Characters will park in the VIP Lot directly behind the stadium - attached is a map (they will just need to communicate their name at the gate once we get it)
Event date: November 8, 2025
Event start time & approx. end time: Puck Drop - 7:05 & end around 10:00 - plaza party starting around 5:00 pm
Call time: 4:15 PM
Changing room details: Catering Room - will be escorted to 
Maximum number invited: 30
RSVP contact: Justin Binnicker (jbinnicker@swamprabbits.com) & Abbey Leach (aleach@swamprabbits.com)
RSVP by date: October 10, 2025
PRIORITY:1
CLASS:PUBLIC
BEGIN:VALARM
TRIGGER:-PT10080M
ACTION:DISPLAY
DESCRIPTION:Reminder
END:VALARM
END:VEVENT
END:VCALENDAR
