BEGIN:VCALENDAR
VERSION:2.0
METHOD:PUBLISH
BEGIN:VEVENT
DTSTART:20250809T140000Z
DTEND:20250809T210000Z
LOCATION:303 Greenville Blvd SW 303 Greenville Boulevard Southwest   27834 
TRANSP: OPAQUE
SEQUENCE:0
UID:
DTSTAMP:20260425T104803Z
SUMMARY:Greenville NC Comic Con 2025
DESCRIPTION:This is the 8th year for the Greenville NC Comic Con.  We pride ourselves on being an affordable family friendly event.

Venue:  Greenville Convention Center
PRIORITY:1
CLASS:PUBLIC
BEGIN:VALARM
TRIGGER:-PT10080M
ACTION:DISPLAY
DESCRIPTION:Reminder
END:VALARM
END:VEVENT
END:VCALENDAR
