BEGIN:VCALENDAR
VERSION:2.0
METHOD:PUBLISH
BEGIN:VEVENT
DTSTART:20250831T204500Z
DTEND:20250901T013000Z
LOCATION:Fluor Field 945 South Main Street Greenville SC 29601 
TRANSP: OPAQUE
SEQUENCE:0
UID:
DTSTAMP:20260425T104924Z
SUMMARY:Greenville Drive Star Wars Night
DESCRIPTION:Please Note: This is an official LFL event.  LFL events are handled differently than other events.  In order to ensure that we adhere to all LFL rules and guidelines, ONLY sign up here if you plan to attend in an approved 501st costume.  If you will be wearing a costume from another organization, sign up with that organization so that we can plan for limited numbers and ensure that all are trooping with an approved costume. Feel free to leave a comment if you are planning on attending under a different organization. 
Thank you

The Greenville Drive are offering an open invitation to costumed fan groups to attend their event on August 31, 2025. This is approved by Lucasfilm. The contact information and details for the event are listed below. Please feel free to share this broadly with your clubs!


Directly below is what we send to the Teams regarding Open Invites for Fan Group participation at sports games:

All SW themed events with Major and Minor league teams are now considered OPEN INVITES. This means we do not have to cast and teams do not have to pay performers. Teams must welcome all fan groups on a first come basis and cannot ask for specific characters or specific amounts. They can set a maximum limit based on accommodations. Open Invites are just that: an invitation to fan groups to show up at an event in costume. Teams cannot direct fan group members to do any activities or be anywhere specific at any specific time - they may provide the groups with a list of activities to self-organize and participate in, but it is at fan group members’ own discretion. We strongly prefer that characters not throw out first pitches, participate in puck drops, sing the National Anthem or things of that nature – if they want, fan group members may escort a child or fan to the mound, etc., but must not be directed to do so. Characters should not hold, wear, sit in or stand on any branded item or logo, especially with a team emblem. The fan groups are welcome to be photographed with others wearing the team logo/brands or in front of signage featuring the team logo/brand, however. We strongly suggest that teams provide a handler/security for costumed fans during activities to ensure the safety and security of said costumed fans, to protect them from overzealous game attendees. Costumed fan groups must be referred to as members from their respective fan groups, and not as official SW/Disney/Lucasfilm characters.

Please note that if you or your club members require a handler or handlers at the event, you must provide them yourself and not rely on handlers from other clubs to fulfill this responsibility.

Please do not RSVP with LFL. The corresponding team contact is listed below if you and your members are interested. Spots fill up fast - not all fan groups will get to participate in events where there is a set limit, which are based on a teams’ bandwidth for accommodation.

Fan Groups invited to attend:

501st Legion-  Carolina Garrison

Rebel Legion- Blue Ridge Base

Mando Mercs- Talon Clan

The Dark Empire- Shadowfox Spire

R2 Builders

Sith Dynasty- Zakuul Temple

Warriors of Mandalore- T'ad o'r Cuir  Cohort

Defenders Detachment

Mandalorian Protectors

Jedi Council of America



Greenville Drive Star Wars Night 2025


Location: Fluor Field 945 S. Main St. Greenville, SC 29601

Parking location and details: Complimentary parking will be at Greenville High School (1 Vardry St.). The Greenville Drive uses this lot as their VIP lot for all baseball games.

Event date: Sunday, August 31

Event start time & approx. end time: Gates open at 5:45 PM and the games have been ending around 9:30 PM. This is our last regular season home game for the year, so we’ll end the night with a firework show.

Call time: 4:45 PM

Changing room details: We can provide changing rooms as well as a semi-private, air-conditioned space to take a break as needed.

Maximum number invited: I’m not sure I have a max but maybe 20-25?

RSVP contact: Katie Batista – katie.batista@greenvilledrive.com or 864-414-2573

RSVP by date: 8/25/25
PRIORITY:1
CLASS:PUBLIC
BEGIN:VALARM
TRIGGER:-PT10080M
ACTION:DISPLAY
DESCRIPTION:Reminder
END:VALARM
END:VEVENT
END:VCALENDAR
