BEGIN:VCALENDAR
VERSION:2.0
METHOD:PUBLISH
BEGIN:VEVENT
DTSTART:20260523T131500Z
DTEND:20260523T163000Z
LOCATION:Prisma Health Greenville Memorial Hospital 701 Grove Road Greenville SC 29605 
TRANSP: OPAQUE
SEQUENCE:0
UID:
DTSTAMP:20260425T105051Z
SUMMARY:Greenville Children’s Hospital Visit
DESCRIPTION:This is a room to room visit to children wanting to see Star Wars characters. We encourage members to bring small gifts to hand out to children ( coloring books, unopened toys, stickers , patches etc.)
PRIORITY:1
CLASS:PUBLIC
BEGIN:VALARM
TRIGGER:-PT10080M
ACTION:DISPLAY
DESCRIPTION:Reminder
END:VALARM
END:VEVENT
END:VCALENDAR
