BEGIN:VCALENDAR
VERSION:2.0
METHOD:PUBLISH
BEGIN:VEVENT
DTSTART:20250215T140000Z
DTEND:20250215T170000Z
LOCATION:701 Grove Rd 701 Grove Road Greenville SC 29605 
TRANSP: OPAQUE
SEQUENCE:0
UID:
DTSTAMP:20260425T105051Z
SUMMARY:Greenville Children’s Hospital Visit
DESCRIPTION:This is room to room visit for any children who want to see us. 
Attendees are allowed to bring a small gift but gifts have to be “new “ or sealed.
PRIORITY:1
CLASS:PUBLIC
BEGIN:VALARM
TRIGGER:-PT10080M
ACTION:DISPLAY
DESCRIPTION:Reminder
END:VALARM
END:VEVENT
END:VCALENDAR
