BEGIN:VCALENDAR
VERSION:2.0
METHOD:PUBLISH
BEGIN:VEVENT
DTSTART:20250315T130000Z
DTEND:20250315T160000Z
LOCATION:701 Grove Rd 701 Grove Road Greenville SC 29605 
TRANSP: OPAQUE
SEQUENCE:0
UID:
DTSTAMP:20260425T105051Z
SUMMARY:Greenville Children Hospital Visit
DESCRIPTION:This is a room to room visit for children staying at the hospital.
PRIORITY:1
CLASS:PUBLIC
BEGIN:VALARM
TRIGGER:-PT10080M
ACTION:DISPLAY
DESCRIPTION:Reminder
END:VALARM
END:VEVENT
END:VCALENDAR
