BEGIN:VCALENDAR
VERSION:2.0
METHOD:PUBLISH
BEGIN:VEVENT
DTSTART:20260815T203000Z
DTEND:20260816T013000Z
LOCATION:First National Bank Field 408 Bellemeade Street Greensboro NC 27401 
TRANSP: OPAQUE
SEQUENCE:0
UID:
DTSTAMP:20260425T104910Z
SUMMARY:Greensboro Grasshoppers Star Wars Night
DESCRIPTION:Please Note: This is an official LFL event.  LFL events are handled differently than other events.  In order to ensure that we adhere to all LFL rules and guidelines, ONLY sign up here if you plan to attend in an approved 501st costume.  If you will be wearing a costume from another organization, sign up with that organization so that we can plan for limited numbers and ensure that all are trooping with an approved costume. Feel free to leave a comment if you are planning on attending under a different organization. 
Thank you

Greensboro Grasshoppers Star Wars Night 2026

Location: (Name and address) First National Bank Field 408 Bellemeade St Greensboro NC 27401
Parking location and details: (Parking should be free)Eugene St Parking Deck across from the ballpark, Free before 5:30 PM
Event date: 8/15/26
Event start time & approx. end time: 5:30 PM 9:30 PM
Call time: (Should be 1 hour prior to game start or doors open) 4:30 PM
Changing room details: Conference room in front office, water and fans provided.
Maximum number invited: 30
RSVP contact: Stephen Johnson Stephen@gsohoppers.com
RSVP by date: 8/11/26
PRIORITY:1
CLASS:PUBLIC
BEGIN:VALARM
TRIGGER:-PT10080M
ACTION:DISPLAY
DESCRIPTION:Reminder
END:VALARM
END:VEVENT
END:VCALENDAR
