BEGIN:VCALENDAR
VERSION:2.0
METHOD:PUBLISH
BEGIN:VEVENT
DTSTART:20260314T210000Z
DTEND:20260315T003000Z
LOCATION:1921 W Gate City Blvd 1921 West Gate City Boulevard Greensboro NC 27403 
TRANSP: OPAQUE
SEQUENCE:0
UID:
DTSTAMP:20260425T104910Z
SUMMARY:Greensboro Gargoyles Star Wars Night
DESCRIPTION:Please Note: This is an official LFL event.  LFL events are handled differently than other events.  In order to ensure that we adhere to all LFL rules and guidelines, ONLY sign up here if you plan to attend in an approved 501st costume.  If you will be wearing a costume from another organization, sign up with that organization so that we can plan for limited numbers and ensure that all are trooping with an approved costume. Feel free to leave a comment if you are planning on attending under a different organization. 
Thank you

Greensboro Gargoyles Star Wars Night 2026

Location: First Horizon Coliseum 1921 W Gate City Blvd. Greensboro, NC 27403

Parking location and details: (Parking should be free) - This will be determined closer to the event

Event date: March 14, 2026

Event start time & approx. end time: 6:00 PM Doors / 7:00 PM Game / 9:30 PM End - If we could have the characters stay until 8 or 8:30 PM, that would be great.

Call time: (Should be 1 hour prior to game start or doors open) 5:00 PM

Changing room details: Locker Room 4

Maximum number invited: 20

RSVP by date:  March 2, 2026
PRIORITY:1
CLASS:PUBLIC
BEGIN:VALARM
TRIGGER:-PT10080M
ACTION:DISPLAY
DESCRIPTION:Reminder
END:VALARM
END:VEVENT
END:VCALENDAR
