BEGIN:VCALENDAR
VERSION:2.0
METHOD:PUBLISH
BEGIN:VEVENT
DTSTART:20251025T130000Z
DTEND:20251025T170000Z
LOCATION:690 33rd Ave N 690 33rd Avenue North Myrtle Beach SC 29572 
TRANSP: OPAQUE
SEQUENCE:0
UID:
DTSTAMP:20260425T151055Z
SUMMARY:Grand Strand Miracle Leagues Halloween Game
DESCRIPTION:We do not allow weapons to be aimed at anyone or used in simulated fighting. However, if they are worn in a costume, that is okay. I will say that many players like to touch things, so if something is fragile or they might mess it up, I'd recommend not having it.

We have around 115-125 players and then their families.
Comments: We provide sports and recreational activities for individuals with disabilities aged 4 and up. Our baseball program is our biggest sport, and for our final game of the fall, our players are invited and encouraged to wear costumes, and they trick-or-treat the bases as they play their games. We have eight teams that play on our rubberized field, and we have games at 9 am, 10 am, 11 am, and noon, ending by 1 pm. You all are invited to come out for some or the whole time.
PRIORITY:1
CLASS:PUBLIC
BEGIN:VALARM
TRIGGER:-PT10080M
ACTION:DISPLAY
DESCRIPTION:Reminder
END:VALARM
END:VEVENT
END:VCALENDAR
