BEGIN:VCALENDAR
VERSION:2.0
METHOD:PUBLISH
BEGIN:VEVENT
DTSTART:20241208T210000Z
DTEND:20241209T000000Z
LOCATION:469 US-501 469 U.S. 501 Conway SC 29526 
TRANSP: OPAQUE
SEQUENCE:0
UID:
DTSTAMP:20260425T105058Z
SUMMARY:Grand strand Down syndrome society Christmas party
DESCRIPTION:Comments: It’s a Christmas party for the Down syndrome society at a church
Referred by:  My friend Rob is part of 501st
PRIORITY:1
CLASS:PUBLIC
BEGIN:VALARM
TRIGGER:-PT10080M
ACTION:DISPLAY
DESCRIPTION:Reminder
END:VALARM
END:VEVENT
END:VCALENDAR
