BEGIN:VCALENDAR
VERSION:2.0
METHOD:PUBLISH
BEGIN:VEVENT
DTSTART:20250504T120000Z
DTEND:20250504T150000Z
LOCATION:800 Brevard Rd 800 Brevard Road Asheville NC 28806 
TRANSP: OPAQUE
SEQUENCE:0
UID:
DTSTAMP:20260424T143613Z
SUMMARY:Girls on the Run WNC 5K
DESCRIPTION:Each season of Girls on the Run ends in a celebratory 5K! This untimed and non-competitive 5K event offers a fun and unique running experience where all paces and abilities are celebrated fully alongside our GOTR participants.

Community runners are invited to take part in the joyful, GOTR experience and run their happy pace through the course which begins and ends with a dance party and fun at Tanger Outlets. The course is fully paved, with road closures for safety and 2 water stations along the way.

Funds raised through the GOTR 5K supports scholarships for GOTR participants, allowing GOTR WNC to keep the promise that no girl is turned away from the program due to family finances.
PRIORITY:1
CLASS:PUBLIC
BEGIN:VALARM
TRIGGER:-PT10080M
ACTION:DISPLAY
DESCRIPTION:Reminder
END:VALARM
END:VEVENT
END:VCALENDAR
