BEGIN:VCALENDAR
VERSION:2.0
METHOD:PUBLISH
BEGIN:VEVENT
DTSTART:20241214T220000Z
DTEND:20241215T010000Z
LOCATION:701 N Liberty St 701 North Liberty Street Winston-Salem NC 27101 
TRANSP: OPAQUE
SEQUENCE:0
UID:
DTSTAMP:20260420T222515Z
SUMMARY:Garrison Christmas Party 2024
DESCRIPTION:This is our Garrison Christmas Party, for members and their family.

This event will not only provide an opportunity for camaraderie among members but also feature a special giveaway.
Jeremy (the CO) announced that an AT-AT Driver armor kit from Intergalactic Supply will be awarded to one lucky attendee.  Presence is required to participate in the giveaway.

DIRTY SANTA EXHANGE:  Please bring a gift valued at no more than $30 to participate in the traditional gift exchange which promises to be a dignified and enjoyable part of the festivities.

No Costumes.  However, Jeremy did ask that everyone bring a Helmet for the group picture.
PRIORITY:1
CLASS:PUBLIC
BEGIN:VALARM
TRIGGER:-PT10080M
ACTION:DISPLAY
DESCRIPTION:Reminder
END:VALARM
END:VEVENT
END:VCALENDAR
