BEGIN:VCALENDAR
VERSION:2.0
METHOD:PUBLISH
BEGIN:VEVENT
DTSTART:20250724T180000Z
DTEND:20250725T000000Z
LOCATION:500 S Salisbury St 500 South Salisbury Street Raleigh NC 27601 
TRANSP: OPAQUE
SEQUENCE:0
UID:
DTSTAMP:20260425T104121Z
SUMMARY:GalaxyCon - Raleigh
DESCRIPTION:Galaxy Con Raleigh is a 4-Day FESTIVAL OF FANDOM with celebrities, artists, writers, voice actors, cosplayers, entertainers, creators, wrestlers, fan groups, panelists, and PEOPLE LIKE YOU!

Join fans from across the galaxy and celebrate Comic Books, Pop Culture, Sci-Fi, Fantasy, Anime, Gaming, Cosplay, and more!

NOTES & CON/FAIRE PROTOCOLS:
-PLEASE NO FOOD OR DRINK near backdrops, member costumes, props & booth tables to avoid damages. Bottled water ONLY.
-Consuming alcoholic beverages while working the booth, in or out of costume, is STRICTLY PROHIBITED per LFL standards.
-All troopers signed up on the forums will need to spend a 2-hour minimum in costume and/or help manning table. Leaving the booth in costume does not count within those 2 hours.
-If you decide to leave the booth while on duty, please inform fellow members so they can cover your spot.
-Members in attendance are responsible for their own costumes, props and children they bring. Children are to be supervised at all times.
-To troop the event and get credit for it, you must do so in an APPROVED costume. Any costumes in progress must have written approval by Command Staff sent to the Garrison POC for this event.
-Govern yourself professionally and be courteous to all costume members & attendees.  Be mindful of your language in front of guests.  Do not hold conversations with fellow members in front of the table space.
-Please be mindful and do not stand in front of table space, entry ways or exits.
-Do NOT point blasters directly at anyone.
PRIORITY:1
CLASS:PUBLIC
BEGIN:VALARM
TRIGGER:-PT10080M
ACTION:DISPLAY
DESCRIPTION:Reminder
END:VALARM
END:VEVENT
END:VCALENDAR
