BEGIN:VCALENDAR
VERSION:2.0
METHOD:PUBLISH
BEGIN:VEVENT
DTSTART:20251030T210000Z
DTEND:20251030T233000Z
LOCATION:1201 Bowling Rd 1201 Bowling Road Fuquay-Varina NC 27526 
TRANSP: OPAQUE
SEQUENCE:0
UID:
DTSTAMP:20260425T111035Z
SUMMARY:FVMS Trunk or Treat 2025
DESCRIPTION:Venue:  Fuquay Varina Middle School
PRIORITY:1
CLASS:PUBLIC
BEGIN:VALARM
TRIGGER:-PT10080M
ACTION:DISPLAY
DESCRIPTION:Reminder
END:VALARM
END:VEVENT
END:VCALENDAR
