BEGIN:VCALENDAR
VERSION:2.0
METHOD:PUBLISH
BEGIN:VEVENT
DTSTART:20250315T150000Z
DTEND:20250315T180000Z
LOCATION:100 Fitness Dr 100 Fitness Drive Fuquay-Varina NC 27526 
TRANSP: OPAQUE
SEQUENCE:0
UID:
DTSTAMP:20260425T105052Z
SUMMARY:Fuquay-Varina PD Polar Plunge for NC S.O.
DESCRIPTION:Freezin' for a Reason! 
The Fuquay-Varina Police Department is partnering with ClubWorx for a chilly good time! Join us for our annual Polar Plunge as we dive into freezing cold water to support a great cause. 


❄️
This exciting event helps benefit over 50,000 Special Olympics athletes across North Carolina! The fun doesn't stop at the plunge—enjoy live music, games, and delicious food from local food trucks. 


Come out, have fun, and make a splash to support an incredible cause! Freezin' for a Reason has never been more fun!
PRIORITY:1
CLASS:PUBLIC
BEGIN:VALARM
TRIGGER:-PT10080M
ACTION:DISPLAY
DESCRIPTION:Reminder
END:VALARM
END:VEVENT
END:VCALENDAR
