BEGIN:VCALENDAR
VERSION:2.0
METHOD:PUBLISH
BEGIN:VEVENT
DTSTART:20250805T210000Z
DTEND:20250806T000000Z
LOCATION:401 Old Honeycutt Rd 401 Old Honeycutt Road Fuquay-Varina NC 27526 
TRANSP: OPAQUE
SEQUENCE:0
UID:
DTSTAMP:20260425T010135Z
SUMMARY:Fuquay-Varina PD National Night Out 2025
DESCRIPTION:National Night Out is an annual event held on the first Tuesday in August. It’s a nationwide campaign designed to strengthen the relationship between neighbors and law enforcement, fostering a greater sense of community. The event focuses on building positive connections between the police and the community.
Event Highlights
Informative Demonstrations: Learn more about police operations and safety measures through engaging demonstrations.
Vehicle Displays: Get an up-close look at police vehicles and equipment.
Food and Fun: Enjoy a variety of food options and participate in fun activities.
Music: Experience live music and entertainment.
Meet the Officers: An opportunity to interact with Fuquay-Varina Police Department employees and build rapport with local law enforcement.
Special Guests: Visit with McGruff the Crime Dog and other special characters.
PRIORITY:1
CLASS:PUBLIC
BEGIN:VALARM
TRIGGER:-PT10080M
ACTION:DISPLAY
DESCRIPTION:Reminder
END:VALARM
END:VEVENT
END:VCALENDAR
