BEGIN:VCALENDAR
VERSION:2.0
METHOD:PUBLISH
BEGIN:VEVENT
DTSTART:20231203T170000Z
DTEND:20231203T230000Z
LOCATION:Fuquay-Varina   Fuquay-Varina NC  
TRANSP: OPAQUE
SEQUENCE:0
UID:
DTSTAMP:20260425T124305Z
SUMMARY:Fuquay Varina Holiday Parade / WSHS
DESCRIPTION:Annual Holiday parade for the Town of Fuquay Varina, NC.  Willow Spring High School Band  - "The Sound of the Storm" will be marching and has requested presence from the 501st to march along side or in front of the band for the parade.  We have a couple of members of the 501st who serve on the Band's pit crew, rightfully named  the "Stormtroopers" and would love to join forces with a good showing from the 501st to support WSHS and the Town of Fuquay!

Parade will begin at 4 PM EST.
PRIORITY:1
CLASS:PUBLIC
BEGIN:VALARM
TRIGGER:-PT10080M
ACTION:DISPLAY
DESCRIPTION:Reminder
END:VALARM
END:VEVENT
END:VCALENDAR
