BEGIN:VCALENDAR
VERSION:2.0
METHOD:PUBLISH
BEGIN:VEVENT
DTSTART:20251207T200000Z
DTEND:20251208T000000Z
LOCATION:109 N Ennis St 109 North Ennis Street Fuquay-Varina NC 27526 
TRANSP: OPAQUE
SEQUENCE:0
UID:
DTSTAMP:20260425T104924Z
SUMMARY:Fuquay Varina Christmas Parade 2025
DESCRIPTION:Annual Christmas Parade for the Town of Fuquay-Varina.  The 501st will march with the Willow Spring HS Band aka "The Sound of the Storm".  This will be the 3rd year for participating in the parade.
PRIORITY:1
CLASS:PUBLIC
BEGIN:VALARM
TRIGGER:-PT10080M
ACTION:DISPLAY
DESCRIPTION:Reminder
END:VALARM
END:VEVENT
END:VCALENDAR
