BEGIN:VCALENDAR
VERSION:2.0
METHOD:PUBLISH
BEGIN:VEVENT
DTSTART:20260502T170000Z
DTEND:20260502T190000Z
LOCATION:239 S Fayetteville St 239 South Fayetteville Street Liberty NC 27298 
TRANSP: OPAQUE
SEQUENCE:0
UID:
DTSTAMP:20260421T092012Z
SUMMARY:Free Comic Book Day Liberty 2026
DESCRIPTION:Venue:  Liberty Public Library

Free Comic Book Day at Liberty Public Library
PRIORITY:1
CLASS:PUBLIC
BEGIN:VALARM
TRIGGER:-PT10080M
ACTION:DISPLAY
DESCRIPTION:Reminder
END:VALARM
END:VEVENT
END:VCALENDAR
