BEGIN:VCALENDAR
VERSION:2.0
METHOD:PUBLISH
BEGIN:VEVENT
DTSTART:20260502T140000Z
DTEND:20260502T210000Z
LOCATION:5959 Triangle Town Blvd 5959 Triangle Town Boulevard Raleigh NC 27616 
TRANSP: OPAQUE
SEQUENCE:0
UID:
DTSTAMP:20260424T112647Z
SUMMARY:Free Comic Book Day
DESCRIPTION:This is a Free comic day event in collaboration with May the 4th
PRIORITY:1
CLASS:PUBLIC
BEGIN:VALARM
TRIGGER:-PT10080M
ACTION:DISPLAY
DESCRIPTION:Reminder
END:VALARM
END:VEVENT
END:VCALENDAR
