BEGIN:VCALENDAR
VERSION:2.0
METHOD:PUBLISH
BEGIN:VEVENT
DTSTART:20250503T150000Z
DTEND:20250503T200000Z
LOCATION:201 Princess St 201 Princess Street Wilmington NC 28401 
TRANSP: OPAQUE
SEQUENCE:0
UID:
DTSTAMP:20260425T104634Z
SUMMARY:Free Comic Book Day 2025
DESCRIPTION:Free comic book day. Comic books are given freely. Characters will wander princess Place Drive between Memory Lanes pt. 1 and Memory Lanes pt. 2.

Venue:  Memory Lane Comics
PRIORITY:1
CLASS:PUBLIC
BEGIN:VALARM
TRIGGER:-PT10080M
ACTION:DISPLAY
DESCRIPTION:Reminder
END:VALARM
END:VEVENT
END:VCALENDAR
